BEGIN:VCALENDAR
VERSION:2.0
PRODID:-//Freizeitbad Grasleben - ECPv4.5.5//NONSGML v1.0//EN
CALSCALE:GREGORIAN
METHOD:PUBLISH
X-WR-CALNAME:Freizeitbad Grasleben
X-ORIGINAL-URL:https://freibadgrasleben.de
X-WR-CALDESC:Events for Freizeitbad Grasleben
BEGIN:VEVENT
DTSTART;TZID=UTC+0:20260516T120000
DTEND;TZID=UTC+0:20260516T160000
DTSTAMP:20260421T105434
CREATED:20260304T111131Z
LAST-MODIFIED:20260407T141617Z
UID:6681-1778932800-1778947200@freibadgrasleben.de
SUMMARY:Saisoneröffnung und 100-Jahr-Feier
DESCRIPTION: \n
URL:https://freibadgrasleben.de/event/saisoneroeffnung-und-100-jahr-feier
END:VEVENT
END:VCALENDAR